BEGIN:VCALENDAR
VERSION:2.0
PRODID:-//eventon.com NONSGML v1.0//EN
BEGIN:VEVENT
UID:69ead3f4d9e50
DTSTAMP:20260423T202244
DTSTART:20221030T160000Z
DTEND:20221030T220000Z
TZID:America/Denver
LOCATION:
SUMMARY:Magic Rob-Magician
DESCRIPTION: Magic Rob-Magician\nhttps://andersonfarms.com/events/magic-rob-magician-19/
URL:https://andersonfarms.com/events/magic-rob-magician-19/
END:VEVENT
END:VCALENDAR