BEGIN:VCALENDAR
VERSION:2.0
PRODID:-//eventon.com NONSGML v1.0//EN
BEGIN:VEVENT
UID:69eca0ec02906
DTSTAMP:20260425T050932
DTSTART:20221023T160000Z
DTEND:20221023T220000Z
TZID:America/Denver
LOCATION:
SUMMARY:Magic Rob-Magician
DESCRIPTION: Magic Rob-Magician\nhttps://andersonfarms.com/events/magic-rob-magician-17/
URL:https://andersonfarms.com/events/magic-rob-magician-17/
END:VEVENT
END:VCALENDAR