BEGIN:VCALENDAR
VERSION:2.0
PRODID:-//eventon.com NONSGML v1.0//EN
BEGIN:VEVENT
UID:69ed28da8ca89
DTSTAMP:20260425T144930
DTSTART:20221015T200000Z
DTEND:20221015T230000Z
TZID:America/Denver
LOCATION:
SUMMARY:Poudre Valley Playboys
DESCRIPTION: Poudre Valley Playboys\nhttps://andersonfarms.com/events/red-mountain-boys-5/
URL:https://andersonfarms.com/events/red-mountain-boys-5/
END:VEVENT
END:VCALENDAR