BEGIN:VCALENDAR
VERSION:2.0
PRODID:-//eventon.com NONSGML v1.0//EN
BEGIN:VEVENT
UID:69ece199006a1
DTSTAMP:20260425T094529
DTSTART:20220924T200000Z
DTEND:20220924T230000Z
TZID:America/Denver
LOCATION:
SUMMARY:Country Touch
DESCRIPTION: Country Touch\nhttps://andersonfarms.com/events/carbone-family-band-3/
URL:https://andersonfarms.com/events/carbone-family-band-3/
END:VEVENT
END:VCALENDAR